BEGIN:VCALENDAR
VERSION:2.0
PRODID:-//eventon.com NONSGML v1.0//EN
BEGIN:VEVENT
UID:69e756ca5eb57
DTSTAMP:20260421T065154
DTSTART:20260422T103000Z
DTEND:20260423T170000Z
LOCATION:Riverdale School 107 Newark Pompton Turnpike\,  Riverdale\,  NJ 07457
SUMMARY:Wednesday/Thursday Class - Riverdale - 5365 AM
DESCRIPTION: 107 Newark Pompton Turnpike\,  Riverdale\,  NJ 07457 Learn at the Riverdale Armory riding range. Our RiderCoaches are rated #1 in NJ with over 7 million miles of experience. We’re ready to welcome you to the riding community. . After completing our Basic RiderCourse you will be fully prepared and licensed[..]
URL:https://theridingcenter.com/events-list/wednesday-thursday-class-riverdale-5365-am/
END:VEVENT
END:VCALENDAR